BEGIN:VCALENDAR
VERSION:2.0
PRODID:icalendar-ruby
CALSCALE:GREGORIAN
METHOD:PUBLISH
BEGIN:VEVENT
DTSTAMP:20260421T121518Z
UID:5-556405@thechurches.tithelysetup3.com
DTSTART:20260823T143000Z
DTEND:20260823T153000Z
CLASS:PUBLIC
CREATED:20260421T064153
DESCRIPTION:
LAST-MODIFIED:20260421T064153
LOCATION:
SUMMARY:Sunday Digital Worship 
URL;VALUE=URI:https://thechurches.tithelysetup3.com/events/sunday-digital-w
 orship/2026-08-23
END:VEVENT
END:VCALENDAR
