BEGIN:VCALENDAR
VERSION:2.0
PRODID:icalendar-ruby
CALSCALE:GREGORIAN
METHOD:PUBLISH
BEGIN:VEVENT
DTSTAMP:20260421T135443Z
UID:5-556723@thechurches.tithelysetup3.com
DTSTART:20260830T143000Z
DTEND:20260830T153000Z
CLASS:PUBLIC
CREATED:20260421T091748
DESCRIPTION:
LAST-MODIFIED:20260421T091748
LOCATION:
SUMMARY:Sunday Digital Worship 
URL;VALUE=URI:https://thechurches.tithelysetup3.com/events/sunday-digital-w
 orship/2026-08-30
END:VEVENT
END:VCALENDAR
