BEGIN:VCALENDAR
VERSION:2.0
PRODID:icalendar-ruby
CALSCALE:GREGORIAN
METHOD:PUBLISH
BEGIN:VEVENT
DTSTAMP:20260421T184059Z
UID:5-557360@thechurches.tithelysetup3.com
DTSTART:20260920T143000Z
DTEND:20260920T153000Z
CLASS:PUBLIC
CREATED:20260421T143340
DESCRIPTION:
LAST-MODIFIED:20260421T143340
LOCATION:
SUMMARY:Sunday Digital Worship 
URL;VALUE=URI:https://thechurches.tithelysetup3.com/events/sunday-digital-w
 orship/2026-09-20
END:VEVENT
END:VCALENDAR
