BEGIN:VCALENDAR
VERSION:2.0
PRODID:icalendar-ruby
CALSCALE:GREGORIAN
METHOD:PUBLISH
BEGIN:VEVENT
DTSTAMP:20260421T220431Z
UID:5-557679@thechurches.tithelysetup3.com
DTSTART:20261004T143000Z
DTEND:20261004T153000Z
CLASS:PUBLIC
CREATED:20260421T171014
DESCRIPTION:
LAST-MODIFIED:20260421T171014
LOCATION:
SUMMARY:Sunday Digital Worship 
URL;VALUE=URI:https://thechurches.tithelysetup3.com/events/sunday-digital-w
 orship/2026-10-04
END:VEVENT
END:VCALENDAR
