BEGIN:VCALENDAR
VERSION:2.0
PRODID:icalendar-ruby
CALSCALE:GREGORIAN
METHOD:PUBLISH
BEGIN:VEVENT
DTSTAMP:20260422T045059Z
UID:5-558000@thechurches.tithelysetup3.com
DTSTART:20261101T153000Z
DTEND:20261101T163000Z
CLASS:PUBLIC
CREATED:20260421T194854
DESCRIPTION:
LAST-MODIFIED:20260421T194854
LOCATION:
SUMMARY:Sunday Digital Worship 
URL;VALUE=URI:https://thechurches.tithelysetup3.com/events/sunday-digital-w
 orship/2026-11-01
END:VEVENT
END:VCALENDAR
